BEGIN:VCALENDAR
VERSION:2.0
PRODID:-//wp-events-plugin.com//7.2.3.1//EN
TZID:America/Chicago
X-WR-TIMEZONE:America/Chicago
BEGIN:VEVENT
UID:2663@bnaijehudah.org
DTSTART;TZID=America/Chicago:20250914T090000
DTEND;TZID=America/Chicago:20250914T090000
DTSTAMP:20250814T010924Z
URL:https://bnaijehudah.org/events/hillel-smith-at-yalla/
SUMMARY:Hillel Smith at Yalla!
DESCRIPTION:Visiting artist Hillel Smith will lead Yalla! students and thei
 r families in creating a new work of art for the B'nai Jehudah community. 
 Be part of something special and help create a beautiful\, lasting additio
 n to our building that will inspire for years to come.
ATTACH;FMTTYPE=image/jpeg:https://bnaijehudah.org/wp-content/uploads/2025/
 07/approved-7.png
CATEGORIES:Yalla! and Youth
END:VEVENT
BEGIN:VTIMEZONE
TZID:America/Chicago
X-LIC-LOCATION:America/Chicago
BEGIN:DAYLIGHT
DTSTART:20250309T030000
TZOFFSETFROM:-0600
TZOFFSETTO:-0500
TZNAME:CDT
END:DAYLIGHT
END:VTIMEZONE
END:VCALENDAR