BEGIN:VCALENDAR
VERSION:2.0
PRODID:-//wp-events-plugin.com//7.2.3.1//EN
TZID:America/Chicago
X-WR-TIMEZONE:America/Chicago
BEGIN:VEVENT
UID:2288@bnaijehudah.org
DTSTART;TZID=America/Chicago:20250304T190000
DTEND;TZID=America/Chicago:20250304T203000
DTSTAMP:20250115T151400Z
URL:https://bnaijehudah.org/events/how-to-lead-daily-minyan-and-prayer/
SUMMARY:How to Lead Daily Minyan and Prayer
DESCRIPTION:Have you ever wondered what goes into leading Daily Minyan? Wou
 ld you like to learn how to lead a prayer service or become more comfortab
 le navigating Jewish prayer? Join Rabbi Brazner and learn basic prayer par
 ticipation and leadership skills and how to become part of our Daily Minya
 n program. No Hebrew or music skills are required\; come even if you aren'
 t able to join our Minyan team! This class is for everyone eager to grow i
 n their prayer practice and skills. Evening and daytime sessions are offer
 ed to meet your scheduling needs. \n\nRegister here.
ATTACH;FMTTYPE=image/jpeg:https://bnaijehudah.org/wp-content/uploads/2023/
 12/minyan-and-prayer.png
CATEGORIES:Adult Education
END:VEVENT
BEGIN:VTIMEZONE
TZID:America/Chicago
X-LIC-LOCATION:America/Chicago
BEGIN:STANDARD
DTSTART:20241103T010000
TZOFFSETFROM:-0500
TZOFFSETTO:-0600
TZNAME:CST
END:STANDARD
END:VTIMEZONE
END:VCALENDAR