BEGIN:VCALENDAR
VERSION:2.0
PRODID:-//wp-events-plugin.com//7.2.3.1//EN
TZID:America/Chicago
X-WR-TIMEZONE:America/Chicago
BEGIN:VEVENT
UID:305@bnaijehudah.org
DTSTART;TZID=America/Chicago:20240225T091500
DTEND;TZID=America/Chicago:20240225T114500
DTSTAMP:20240130T202354Z
URL:https://bnaijehudah.org/events/in-the-kitchen-with-kramer-bagel-making
 -with-stephen-steigman/
SUMMARY:In the Kitchen with Kramer: Bagel Making with Stephen Steigman
DESCRIPTION:Who doesn't love a good bagel?? But do you know how to make one
 ? Join Rabbi Kramer with special guest Stephen Steigman in our B'nai Jehud
 ah kitchen for this how-to bagel making workshop! Laugh with friends\, lea
 rn a new recipe\, and join us for Sunday morning cooking fun! Register her
 e.
ATTACH;FMTTYPE=image/jpeg:https://bnaijehudah.org/wp-content/uploads/2023/
 12/In-the-Kitchen-with-Kramer-Bagel-Making-with-Stephen-Steigman-Web.png
CATEGORIES:Community Connections
END:VEVENT
BEGIN:VTIMEZONE
TZID:America/Chicago
X-LIC-LOCATION:America/Chicago
BEGIN:STANDARD
DTSTART:20231105T010000
TZOFFSETFROM:-0500
TZOFFSETTO:-0600
TZNAME:CST
END:STANDARD
END:VTIMEZONE
END:VCALENDAR