BEGIN:VCALENDAR
VERSION:2.0
PRODID:-//wp-events-plugin.com//7.2.3.1//EN
TZID:America/Chicago
X-WR-TIMEZONE:America/Chicago
BEGIN:VEVENT
UID:349@bnaijehudah.org
DTSTART;TZID=America/Chicago:20240507T170000
DTEND;TZID=America/Chicago:20240507T180000
DTSTAMP:20240405T144307Z
URL:https://bnaijehudah.org/events/in-the-kitchen-with-kramer-hummus-falaf
 el/
SUMMARY:In the Kitchen with Kramer: Hummus & Falafel
DESCRIPTION:Yom HaAtzma-ut (Israel’s Independence day) is right around th
 e corner. Join Rabbi Kramer and Josh Hoffman for a hands-on Middle Eastern
  cooking class. We will learn the art of making creamy hummus\, and freshl
 y fried falafel! There will be laughter\, schmoozing and delicious food to
  share! Please bring your own wine!\n\nRegister here.
CATEGORIES:Holiday Programming
END:VEVENT
BEGIN:VTIMEZONE
TZID:America/Chicago
X-LIC-LOCATION:America/Chicago
BEGIN:DAYLIGHT
DTSTART:20240310T030000
TZOFFSETFROM:-0600
TZOFFSETTO:-0500
TZNAME:CDT
END:DAYLIGHT
END:VTIMEZONE
END:VCALENDAR