BEGIN:VCALENDAR
VERSION:2.0
PRODID:-//wp-events-plugin.com//7.2.3.1//EN
TZID:America/Chicago
X-WR-TIMEZONE:America/Chicago
BEGIN:VEVENT
UID:1939@bnaijehudah.org
DTSTART;TZID=America/North_Dakota/Center:20241210T190000
DTEND;TZID=America/North_Dakota/Center:20241210T203000
DTSTAMP:20240717T020243Z
URL:https://bnaijehudah.org/events/intro-to-rabbinic-texts-exploring-talmu
 d-midrash-and-more-2024-12-10/
SUMMARY:Intro to Rabbinic Texts: Exploring Talmud\, Midrash and More!
DESCRIPTION:\n\n"Our Talmud teaches us…" "There's a great midrash that sa
 ys…" "According to the Shulchan Aruch…" So often we hear these phrases
  referencing our Jewish sacred canon\, yet many of us may not feel as know
 ledgeable as we would like about these important texts! What is Talmud? Wh
 ere do midrashim come from? Join Rabbi Brazner for this 3-part series on R
 abbinic Texts to learn more about the breadth and wealth of our Jewish lit
 erary tradition.\n\n\nRegister here.\n
ATTACH;FMTTYPE=image/jpeg:https://bnaijehudah.org/wp-content/uploads/2024/
 07/intro-to-rabbinic-texts.png
CATEGORIES:Adult Education
END:VEVENT
BEGIN:VTIMEZONE
TZID:America/North_Dakota/Center
X-LIC-LOCATION:America/North_Dakota/Center
BEGIN:STANDARD
DTSTART:20241103T010000
TZOFFSETFROM:-0500
TZOFFSETTO:-0600
TZNAME:CST
END:STANDARD
END:VTIMEZONE
END:VCALENDAR