BEGIN:VCALENDAR
VERSION:2.0
PRODID:-//wp-events-plugin.com//7.2.3.1//EN
TZID:America/Chicago
X-WR-TIMEZONE:America/Chicago
BEGIN:VEVENT
UID:1233@bnaijehudah.org
DTSTART;TZID=America/Chicago:20240313T190000
DTEND;TZID=America/Chicago:20240313T203000
DTSTAMP:20240224T003915Z
URL:https://bnaijehudah.org/events/jewish-journeys-2024-03-13/
SUMMARY:Jewish Journeys - Off Site
DESCRIPTION:Jill Maidhof will present topics pertaining to Rosh Chodesh and
  the new moon\, followed by group discussion. Email jill.maidhof@gmail.com
  to register. This will meet at Congregation Beth Torah\, 6100 W 127th Str
 eet\, Overland Park.\n.
ATTACH;FMTTYPE=image/jpeg:https://bnaijehudah.org/wp-content/uploads/2024/
 01/Jewish-Journeys-800-x-600-px-1.png
CATEGORIES:Sisterhood
END:VEVENT
BEGIN:VTIMEZONE
TZID:America/Chicago
X-LIC-LOCATION:America/Chicago
BEGIN:DAYLIGHT
DTSTART:20240310T030000
TZOFFSETFROM:-0600
TZOFFSETTO:-0500
TZNAME:CDT
END:DAYLIGHT
END:VTIMEZONE
END:VCALENDAR