BEGIN:VCALENDAR
VERSION:2.0
PRODID:-//wp-events-plugin.com//7.2.3.1//EN
TZID:America/Chicago
X-WR-TIMEZONE:America/Chicago
BEGIN:VEVENT
UID:206@bnaijehudah.org
DTSTART;TZID=America/Chicago:20240521T123000
DTEND;TZID=America/Chicago:20240521T140000
DTSTAMP:20240501T020738Z
URL:https://bnaijehudah.org/events/jewish-mourning-rituals-class-2024-05-2
 1/
SUMMARY:Jewish Mourning Rituals Class
DESCRIPTION:Shiva-Sh'loshim-Yahrzeit A two-part class to explain\, and expl
 ore the different Jewish mourning rituals. What do they mean? What should 
 I do? What is allowed? A safe place to ask all the questions you have been
  wondering about.\n\nWhere: TTCBJ Library\n\nRegister here.
ATTACH;FMTTYPE=image/jpeg:https://bnaijehudah.org/wp-content/uploads/2023/
 12/mourning.png
CATEGORIES:Adult Education
END:VEVENT
BEGIN:VTIMEZONE
TZID:America/Chicago
X-LIC-LOCATION:America/Chicago
BEGIN:DAYLIGHT
DTSTART:20240310T030000
TZOFFSETFROM:-0600
TZOFFSETTO:-0500
TZNAME:CDT
END:DAYLIGHT
END:VTIMEZONE
END:VCALENDAR