BEGIN:VCALENDAR
VERSION:2.0
PRODID:-//wp-events-plugin.com//7.2.3.1//EN
TZID:America/Chicago
X-WR-TIMEZONE:America/Chicago
BEGIN:VEVENT
UID:369@bnaijehudah.org
DTSTART;TZID=America/Chicago:20240117T183000
DTEND;TZID=America/Chicago:20240117T190000
DTSTAMP:20240129T023357Z
URL:https://bnaijehudah.org/events/kesher-pizza-dinner-2024-01-17/
SUMMARY:Kesher Pizza Dinner
DESCRIPTION:Come early for Kesher and eat pizza with fellow students!
CATEGORIES:Kesher
END:VEVENT
BEGIN:VTIMEZONE
TZID:America/Chicago
X-LIC-LOCATION:America/Chicago
BEGIN:STANDARD
DTSTART:20231105T010000
TZOFFSETFROM:-0500
TZOFFSETTO:-0600
TZNAME:CST
END:STANDARD
END:VTIMEZONE
END:VCALENDAR