BEGIN:VCALENDAR
VERSION:2.0
PRODID:-//wp-events-plugin.com//7.2.3.1//EN
TZID:America/Chicago
X-WR-TIMEZONE:America/Chicago
BEGIN:VEVENT
UID:384@bnaijehudah.org
DTSTART;TZID=America/Chicago:20240501T183000
DTEND;TZID=America/Chicago:20240501T190000
DTSTAMP:20240129T023357Z
URL:https://bnaijehudah.org/events/kesher-pizza-dinner-2024-05-01/
SUMMARY:Kesher Pizza Dinner
DESCRIPTION:Come early for Kesher and eat pizza with fellow students!
CATEGORIES:Kesher
END:VEVENT
BEGIN:VTIMEZONE
TZID:America/Chicago
X-LIC-LOCATION:America/Chicago
BEGIN:DAYLIGHT
DTSTART:20240310T030000
TZOFFSETFROM:-0600
TZOFFSETTO:-0500
TZNAME:CDT
END:DAYLIGHT
END:VTIMEZONE
END:VCALENDAR