BEGIN:VCALENDAR
VERSION:2.0
PRODID:-//wp-events-plugin.com//7.2.3.1//EN
TZID:America/Chicago
X-WR-TIMEZONE:America/Chicago
BEGIN:VEVENT
UID:315@bnaijehudah.org
DTSTART;TZID=America/Chicago:20240428T120000
DTEND;TZID=America/Chicago:20240428T143000
DTSTAMP:20240315T163316Z
URL:https://bnaijehudah.org/events/klein-collection-field-trip-to-toy-mini
 ature-museum/
SUMMARY:Klein Collection Field Trip to Toy & Miniature Museum
DESCRIPTION:Enjoy a private tour of the amazing National Museum of Toys and
  Miniatures with a special focus on the Jewish objects in their collection
 . Optional lunch at B'nai Jehudah is included with registration.\n\n12:00p
 m Lunch at B'nai Jehudah\n\n1:30pm Tour begins at Toy &amp\; Miniature Mus
 eum\, 5235 Oak St. Kansas City\, MO\n\nRegister here.
ATTACH;FMTTYPE=image/jpeg:https://bnaijehudah.org/wp-content/uploads/2023/
 12/private-tour-klein.png
CATEGORIES:Community Connections,Klein Collection
END:VEVENT
BEGIN:VTIMEZONE
TZID:America/Chicago
X-LIC-LOCATION:America/Chicago
BEGIN:DAYLIGHT
DTSTART:20240310T030000
TZOFFSETFROM:-0600
TZOFFSETTO:-0500
TZNAME:CDT
END:DAYLIGHT
END:VTIMEZONE
END:VCALENDAR