BEGIN:VCALENDAR
VERSION:2.0
PRODID:-//wp-events-plugin.com//7.2.3.1//EN
TZID:America/Chicago
X-WR-TIMEZONE:America/Chicago
BEGIN:VEVENT
UID:1880@bnaijehudah.org
DTSTART;TZID=America/Chicago:20241113T113000
DTEND;TZID=America/Chicago:20241113T123000
DTSTAMP:20240715T043258Z
URL:https://bnaijehudah.org/events/klein-collection-learning-group-2024-11
 -13/
SUMMARY:Klein Collection Learning Group
DESCRIPTION:Wednesdays at 11:30am in the Prophets Pod\nAugust 14\, Septembe
 r 11\, November 13\, January 15\, February 12\, April 9 and May 14\n\nJoin
  us for a monthly\, informal learning session on topics explored through t
 he lens of beautiful Judaica in the Klein Collection.\n\nRegister here.
ATTACH;FMTTYPE=image/jpeg:https://bnaijehudah.org/wp-content/uploads/2023/
 12/klein-collection-monthly.png
CATEGORIES:Adult Education
END:VEVENT
BEGIN:VTIMEZONE
TZID:America/Chicago
X-LIC-LOCATION:America/Chicago
BEGIN:STANDARD
DTSTART:20241103T010000
TZOFFSETFROM:-0500
TZOFFSETTO:-0600
TZNAME:CST
END:STANDARD
END:VTIMEZONE
END:VCALENDAR