BEGIN:VCALENDAR
VERSION:2.0
PRODID:-//wp-events-plugin.com//7.2.3.1//EN
TZID:America/Chicago
X-WR-TIMEZONE:America/Chicago
BEGIN:VEVENT
UID:1661@bnaijehudah.org
DTSTART;TZID=America/Chicago;VALUE=DATE:20250224
DTEND;TZID=America/Chicago;VALUE=DATE:20250225
DTSTAMP:20240716T031125Z
URL:https://bnaijehudah.org/events/ltaken-trip-to-washington-dc-2025-02-24
 /
SUMMARY:L'Taken Trip to Washington\, DC
DESCRIPTION:Are you in 9th to 12th grade and ready to change the world? The
 n get excited for the Bernard and Audre Rapoport L’Taken Social Justice 
 Seminar! In partnership with the Religious Action Center of Reform Judaism
  (RAC)\, our L'Taken group will have the opportunity to impact our country
  as you share your views on social justice topics with decision-makers on 
 Capitol Hill. Learn about various public policy issues and explore the Jew
 ish values that inform the Reform Movement’s advocacy around these issue
 s. Throughout the weekend\, we will give you the knowledge and tools to wr
 ite an effective\, persuasive and passionate speech on a topic of your cho
 ice to present when you visit the offices of your Senators and Representat
 ives on Monday.\nContact Dayna Gershon at education@bnaijehudah.org or (91
 3) 663-3047 for more information about this trip! 
CATEGORIES:Yalla! and Youth
END:VEVENT
BEGIN:VTIMEZONE
TZID:America/Chicago
X-LIC-LOCATION:America/Chicago
BEGIN:STANDARD
DTSTART:20241103T010000
TZOFFSETFROM:-0500
TZOFFSETTO:-0600
TZNAME:CST
END:STANDARD
END:VTIMEZONE
END:VCALENDAR