BEGIN:VCALENDAR
VERSION:2.0
PRODID:-//wp-events-plugin.com//7.2.3.1//EN
TZID:America/Chicago
X-WR-TIMEZONE:America/Chicago
BEGIN:VEVENT
UID:619@bnaijehudah.org
DTSTART;TZID=America/Chicago:20240117T184500
DTEND;TZID=America/Chicago:20240117T211500
DTSTAMP:20231222T191558Z
URL:https://bnaijehudah.org/events/mah-jongg-2024-01-17/
SUMMARY:Mah Jongg
DESCRIPTION:
CATEGORIES:Sisterhood
END:VEVENT
BEGIN:VTIMEZONE
TZID:America/Chicago
X-LIC-LOCATION:America/Chicago
BEGIN:STANDARD
DTSTART:20231105T010000
TZOFFSETFROM:-0500
TZOFFSETTO:-0600
TZNAME:CST
END:STANDARD
END:VTIMEZONE
END:VCALENDAR