BEGIN:VCALENDAR
VERSION:2.0
PRODID:-//wp-events-plugin.com//7.2.3.1//EN
TZID:America/Chicago
X-WR-TIMEZONE:America/Chicago
BEGIN:VEVENT
UID:2930@bnaijehudah.org
DTSTART;TZID=America/Chicago:20250916T170000
DTEND;TZID=America/Chicago:20250916T190000
DTSTAMP:20250817T022337Z
URL:https://bnaijehudah.org/events/mitzvah-makers/
SUMMARY:Mitzvah Makers
DESCRIPTION:We are thrilled to launch a brand-new\, service-oriented family
  program at B’nai Jehudah called Mitzvah Makers! This program includes f
 ive hands-on service projects designed for all ages. Over our inaugural ye
 ar\, participating families will volunteer with St. Paul’s Episcopal Chu
 rch’s Food Pantry\, Happy Bottoms\, Micah Ministries\, B’nai Jehudah C
 hesed Meals and our cemetery.\n\nMark your calendars and register today fo
 r these meaningful dates:\n\n• September 16 · 5:00pm-7:00pm\n• Octobe
 r 26 · 12:00pm-3:00 pm\n• December 6 · 3:00pm-6:00pm\n• January 18 
 · 12:00pm-3:00pm\n• April 20 · 5:00pm-7:00pm\n\nDo good. Feel good. Bu
 ild community. Make a difference together!\n\nCost is $36 per family. Cont
 act Dayna Gershon with any questions at education@bnaijehudah.org.\n\nRegi
 ster here.
ATTACH;FMTTYPE=image/jpeg:https://bnaijehudah.org/wp-content/uploads/2025/
 08/Mitzvah-Makers.png
CATEGORIES:Yalla! and Youth
END:VEVENT
BEGIN:VTIMEZONE
TZID:America/Chicago
X-LIC-LOCATION:America/Chicago
BEGIN:DAYLIGHT
DTSTART:20250309T030000
TZOFFSETFROM:-0600
TZOFFSETTO:-0500
TZNAME:CDT
END:DAYLIGHT
END:VTIMEZONE
END:VCALENDAR