BEGIN:VCALENDAR
VERSION:2.0
PRODID:-//wp-events-plugin.com//7.2.3.1//EN
TZID:America/Chicago
X-WR-TIMEZONE:America/Chicago
BEGIN:VEVENT
UID:1920@bnaijehudah.org
DTSTART;TZID=America/Chicago:20250108T090000
DTEND;TZID=America/Chicago:20250108T090000
DTSTAMP:20250110T034045Z
URL:https://bnaijehudah.org/events/music-and-movement-with-miss-laura-2025
 -01-08/
SUMMARY:Music and Movement with Miss Laura
DESCRIPTION:Early Childhood Music with Music Director Laura Payne\nWednesda
 ys at 9:00am: January 8 - February 12\nBring your little ones ages birth-2
  years and join our music director Laura Payne for Music and Movement with
  Miss Laura! Sing\, move\, imagine\, connect\, and learn in an inclusive\,
  sensory-rich\, Jewish environment that boosts brain development and insti
 lls an early love of music! \nThis series has six sessions\; register by 
 class or for the full series!\n$70 for the entire six-week session or $12 
 per class.\n\nRegister here.
ATTACH;FMTTYPE=image/jpeg:https://bnaijehudah.org/wp-content/uploads/2024/
 07/web-of-Dec-17-Music-and-Movement-with-Miss-Laura-Early-Childhood-Music-
 with-Music-Director-Laura-Payne.png
CATEGORIES:Young Families
END:VEVENT
BEGIN:VTIMEZONE
TZID:America/Chicago
X-LIC-LOCATION:America/Chicago
BEGIN:STANDARD
DTSTART:20241103T010000
TZOFFSETFROM:-0500
TZOFFSETTO:-0600
TZNAME:CST
END:STANDARD
END:VTIMEZONE
END:VCALENDAR