BEGIN:VCALENDAR
VERSION:2.0
PRODID:-//wp-events-plugin.com//7.2.3.1//EN
TZID:America/Chicago
X-WR-TIMEZONE:America/Chicago
BEGIN:VEVENT
UID:3094@bnaijehudah.org
DTSTART;TZID=America/Chicago:20260411T130000
DTEND;TZID=America/Chicago:20260411T130000
DTSTAMP:20260108T194154Z
URL:https://bnaijehudah.org/events/musicandlyricswithrabbinoamkatz/
SUMMARY:Music and Lyrics with Rabbi Noam Katz
DESCRIPTION:Do a deep dive into the lyrics of Noam Katz's compositions and 
 the Hebrew texts that inspired them.\n\nRegister here.
ATTACH;FMTTYPE=image/jpeg:https://bnaijehudah.org/wp-content/uploads/2025/
 12/Music-and-Lyrics-with-Rabbi-Noam-Katz.png
CATEGORIES:Artist In Residence,Klein Collection
END:VEVENT
BEGIN:VTIMEZONE
TZID:America/Chicago
X-LIC-LOCATION:America/Chicago
BEGIN:DAYLIGHT
DTSTART:20260308T030000
TZOFFSETFROM:-0600
TZOFFSETTO:-0500
TZNAME:CDT
END:DAYLIGHT
END:VTIMEZONE
END:VCALENDAR