BEGIN:VCALENDAR
VERSION:2.0
PRODID:-//wp-events-plugin.com//7.2.3.1//EN
TZID:America/Chicago
X-WR-TIMEZONE:America/Chicago
BEGIN:VEVENT
UID:2976@bnaijehudah.org
DTSTART;TZID=America/Chicago;VALUE=DATE:20260220
DTEND;TZID=America/Chicago;VALUE=DATE:20260222
DTSTAMP:20260203T160907Z
URL:https://bnaijehudah.org/events/musician-in-residence-weekend-cantor-jo
 sh-breitzer/
SUMMARY:Artist-in-Residence Weekend: Cantor Josh Breitzer
DESCRIPTION:Artist-in-Residence Cantor Josh Breitzer will join B'nai Jehuda
 h for a weekend of joyful music and song. We look forward to welcoming him
  to B'nai Jehudah as he inspires us with his beautiful voice and liturgica
 l wisdom. Cantor Josh Breitzer (he/him) is president of the American Confe
 rence of Cantors and has served Congregation Beth Elohim in Brooklyn since
  his 2011 ordination from Hebrew Union College. Named by The Forward as a 
 leading voice of Jewish music\, Cantor Breitzer has sung and taught in com
 munities throughout North America and around the world. He proudly hails f
 rom mid-Michigan and spent formative summers at Interlochen Arts Camp\, la
 ter earning degrees from the University of Michigan and the New England Co
 nservatory. Cantor Breitzer is an instructor at HUC and on the faculty at 
 URJ Crane Lake Camp. He lives with his wife Donna and their two sons\, Jon
 ah and Gideon.
ATTACH;FMTTYPE=image/jpeg:https://bnaijehudah.org/wp-content/uploads/2025/
 09/Artist-in-Residence-Weekend-Cantor-Josh-Breitzer-web-800-x-600-px.png
CATEGORIES:Artist In Residence,Klein Collection
END:VEVENT
BEGIN:VTIMEZONE
TZID:America/Chicago
X-LIC-LOCATION:America/Chicago
BEGIN:STANDARD
DTSTART:20251102T010000
TZOFFSETFROM:-0500
TZOFFSETTO:-0600
TZNAME:CST
END:STANDARD
END:VTIMEZONE
END:VCALENDAR