BEGIN:VCALENDAR
VERSION:2.0
PRODID:-//wp-events-plugin.com//7.2.3.1//EN
TZID:America/Chicago
X-WR-TIMEZONE:America/Chicago
BEGIN:VEVENT
UID:1239@bnaijehudah.org
DTSTART;TZID=America/Chicago;VALUE=DATE:20240218
DTEND;TZID=America/Chicago;VALUE=DATE:20240219
DTSTAMP:20240115T154027Z
URL:https://bnaijehudah.org/events/no-religious-school/
SUMMARY:NO Religious School
DESCRIPTION:
CATEGORIES:Yalla! and Youth
END:VEVENT
BEGIN:VTIMEZONE
TZID:America/Chicago
X-LIC-LOCATION:America/Chicago
BEGIN:STANDARD
DTSTART:20231105T010000
TZOFFSETFROM:-0500
TZOFFSETTO:-0600
TZNAME:CST
END:STANDARD
END:VTIMEZONE
END:VCALENDAR