BEGIN:VCALENDAR
VERSION:2.0
PRODID:-//wp-events-plugin.com//7.2.3.1//EN
TZID:America/Chicago
X-WR-TIMEZONE:America/Chicago
BEGIN:VEVENT
UID:2306@bnaijehudah.org
DTSTART;TZID=America/Chicago:20250206T110000
DTEND;TZID=America/Chicago:20250206T121500
DTSTAMP:20250113T212752Z
URL:https://bnaijehudah.org/events/one-light-above-part-two-more-songs-and
 -their-stories-with-rabbi-larry-karol/
SUMMARY:One Light Above Part Two: More Songs and Their Stories with Rabbi L
 arry Karol
DESCRIPTION:Rabbi Larry Karol will present a selection of his original song
 s\, describing the Jewish texts and current events that led to their creat
 ion. Over the last 25 years\, he has written over 100 songs on Jewish them
 es\, often sharing them with his congregants and the greater community. Ra
 bbi Karol has released three albums of his original music (available on Sp
 otify and Apple Music) and continues to compose new music. Come warm up th
 is winter morning with coffee\, hot chocolate and songs! \n\nRegister Her
 e.
ATTACH;FMTTYPE=image/jpeg:https://bnaijehudah.org/wp-content/uploads/2024/
 11/One-light-above-part-2.png
CATEGORIES:Community Connections
END:VEVENT
BEGIN:VTIMEZONE
TZID:America/Chicago
X-LIC-LOCATION:America/Chicago
BEGIN:STANDARD
DTSTART:20241103T010000
TZOFFSETFROM:-0500
TZOFFSETTO:-0600
TZNAME:CST
END:STANDARD
END:VTIMEZONE
END:VCALENDAR