BEGIN:VCALENDAR
VERSION:2.0
PRODID:-//wp-events-plugin.com//7.2.3.1//EN
TZID:America/Chicago
X-WR-TIMEZONE:America/Chicago
BEGIN:VEVENT
UID:348@bnaijehudah.org
DTSTART;TZID=America/Chicago:20240429T103000
DTEND;TZID=America/Chicago:20240429T113000
DTSTAMP:20231222T185747Z
URL:https://bnaijehudah.org/events/passover-yizkor-service-2/
SUMMARY:Passover Yizkor Service
DESCRIPTION:
CATEGORIES:Holiday Programming
END:VEVENT
BEGIN:VTIMEZONE
TZID:America/Chicago
X-LIC-LOCATION:America/Chicago
BEGIN:DAYLIGHT
DTSTART:20240310T030000
TZOFFSETFROM:-0600
TZOFFSETTO:-0500
TZNAME:CDT
END:DAYLIGHT
END:VTIMEZONE
END:VCALENDAR