BEGIN:VCALENDAR
VERSION:2.0
PRODID:-//wp-events-plugin.com//7.2.3.1//EN
TZID:America/Chicago
X-WR-TIMEZONE:America/Chicago
BEGIN:VEVENT
UID:2538@bnaijehudah.org
DTSTART;TZID=America/Chicago:20251024T180000
DTEND;TZID=America/Chicago:20251024T180000
DTSTAMP:20250722T175800Z
URL:https://bnaijehudah.org/events/pet-blessing-shabbat-for-parashat-noach
 /
SUMMARY:Pet Blessing Shabbat for Parashat Noach
DESCRIPTION:Shabbat Shalom. Come pray with us as we welcome this special Pe
 t Blessing Shabbat for Parashat Noach. Join us in person or virtually.\n\n
 In honor of parashat Noach\, we want to give our community the opportunit
 y to bless their pets! Email your photos of your furry friends to RabbiRot
 hstein@BnaiJehudah.org by Sunday\, October 18 and attend services on Frida
 y\, October 24 to send blessings their way!
ATTACH;FMTTYPE=image/jpeg:https://bnaijehudah.org/wp-content/uploads/2025/
 07/Copy-of-Pet-Blessing-Shabbat-for-Parashat-Noach-800-x-600-px.png
CATEGORIES:Shabbat
END:VEVENT
BEGIN:VTIMEZONE
TZID:America/Chicago
X-LIC-LOCATION:America/Chicago
BEGIN:DAYLIGHT
DTSTART:20250309T030000
TZOFFSETFROM:-0600
TZOFFSETTO:-0500
TZNAME:CDT
END:DAYLIGHT
END:VTIMEZONE
END:VCALENDAR