BEGIN:VCALENDAR
VERSION:2.0
PRODID:-//wp-events-plugin.com//7.2.3.1//EN
TZID:America/Chicago
X-WR-TIMEZONE:America/Chicago
BEGIN:VEVENT
UID:2493@bnaijehudah.org
DTSTART;TZID=America/Chicago:20250810T150000
DTEND;TZID=America/Chicago:20250810T170000
DTSTAMP:20250716T181323Z
URL:https://bnaijehudah.org/events/popsicle-pop-in-2/
SUMMARY:Popsicle Pop-In
DESCRIPTION:Are you wondering\, questioning or on the fence about enrolling
  your pre-K or kindergartner in Yalla!\, B'nai Jehudah's Sunday morning re
 ligious school program?\n\nCome to the Popsicle Pop-in to learn more about
  what to expect from pre-K and Kindergarten at Yalla!\, meet the teachers 
 and get to know the other families.\n\nMust be a member of B'nai Jehudah t
 o enroll in religious school. For more information about Yalla!\, contact 
 Dayna Gershon at dgershon@bnaijehudah.org or (913) 663-3047. For informati
 on about membership\, contact Kelley Cowman at kcowman@bnaijehudah.org or 
 (913) 663-4050.\n\nRegister here.
ATTACH;FMTTYPE=image/jpeg:https://bnaijehudah.org/wp-content/uploads/2025/
 05/web-Popsicle-Pop-In-800-x-600-px-1.png
CATEGORIES:Yalla! and Youth,Young Families
END:VEVENT
BEGIN:VTIMEZONE
TZID:America/Chicago
X-LIC-LOCATION:America/Chicago
BEGIN:DAYLIGHT
DTSTART:20250309T030000
TZOFFSETFROM:-0600
TZOFFSETTO:-0500
TZNAME:CDT
END:DAYLIGHT
END:VTIMEZONE
END:VCALENDAR