BEGIN:VCALENDAR
VERSION:2.0
PRODID:-//wp-events-plugin.com//7.2.3.1//EN
TZID:America/Chicago
X-WR-TIMEZONE:America/Chicago
BEGIN:VEVENT
UID:1764@bnaijehudah.org
DTSTART;TZID=America/Chicago:20240818T150000
DTEND;TZID=America/Chicago:20240818T150000
DTSTAMP:20240527T015957Z
URL:https://bnaijehudah.org/events/popsicle-pop-in/
SUMMARY:Popsicle Pop-In
DESCRIPTION:Pre-k and kindergarten families get to know each other before t
 he Yalla! year begins.\n\nRegister here.
ATTACH;FMTTYPE=image/jpeg:https://bnaijehudah.org/wp-content/uploads/2024/
 05/web-Popsicle-Pop-In-800-x-600-px.png
CATEGORIES:Yalla! and Youth
END:VEVENT
BEGIN:VTIMEZONE
TZID:America/Chicago
X-LIC-LOCATION:America/Chicago
BEGIN:DAYLIGHT
DTSTART:20240310T030000
TZOFFSETFROM:-0600
TZOFFSETTO:-0500
TZNAME:CDT
END:DAYLIGHT
END:VTIMEZONE
END:VCALENDAR