BEGIN:VCALENDAR
VERSION:2.0
PRODID:-//wp-events-plugin.com//7.2.3.1//EN
TZID:America/Chicago
X-WR-TIMEZONE:America/Chicago
BEGIN:VEVENT
UID:1942@bnaijehudah.org
DTSTART;TZID=America/Chicago:20250131T180000
DTEND;TZID=America/Chicago:20250131T180000
DTSTAMP:20250109T183519Z
URL:https://bnaijehudah.org/events/rabbis-table-with-nolan-gasser-architec
 t-of-pandora-radios-music-genome-project-musical-taste-and-the-sound-of-je
 wish-identity/
SUMMARY:Rabbi’s Table with Nolan Gasser: Architect of Pandora Radio’s M
 usic Genome Project Musical Taste and the “Sound” of Jewish Identity
DESCRIPTION:A new way to welcome Shabbat!  Join us for a catered Shabbat d
 inner and learn from our special guest speaker\, Dr. Nolan Gasser. Dr. Gas
 ser\, a former congregant and friend of Rabbi Kramer\, is a composer\, pia
 nist\, author and musicologist - most notably\, the architect of Pandora R
 adio’s Music Genome Project. His best-selling 2019 book Why You Like It:
  The Science and Culture of Musical Taste\, is also the focus of his PBS s
 pecial. Dr. Gasser will help us understand Jewish music’s unique attrib
 utes and emotional appeal\, from cantillation to klezmer.  \n\nCost is $
 20 per person for dinner. Space is limited\, so please register early. And
  don’t forget to bring your own wine! \n\nRegister here.
ATTACH;FMTTYPE=image/jpeg:https://bnaijehudah.org/wp-content/uploads/2024/
 07/Rabbis-Table-Dinner-800-x-600-px.png
CATEGORIES:Rabbi's Table,Shabbat
END:VEVENT
BEGIN:VTIMEZONE
TZID:America/Chicago
X-LIC-LOCATION:America/Chicago
BEGIN:STANDARD
DTSTART:20241103T010000
TZOFFSETFROM:-0500
TZOFFSETTO:-0600
TZNAME:CST
END:STANDARD
END:VTIMEZONE
END:VCALENDAR