BEGIN:VCALENDAR
VERSION:2.0
PRODID:-//wp-events-plugin.com//7.2.3.1//EN
TZID:America/Chicago
X-WR-TIMEZONE:America/Chicago
BEGIN:VEVENT
UID:22@bnaijehudah.org
DTSTART;TZID=America/Chicago:20240419T180000
DTEND;TZID=America/Chicago:20240419T203000
DTSTAMP:20240409T160824Z
URL:https://bnaijehudah.org/events/rabbis-table-with-rabbi-david-meyer/
SUMMARY:Rabbi’s Table with Rabbi David Meyer
DESCRIPTION:Since our very beginnings\, the wonder and awe evoked by the he
 aven’s expanse has been an essential aspect of Jewish spirituality\, wor
 ship and wisdom. As philosopher\, Abraham Joshua Heschel has written\, “
 The beginning of awe is wonder\, and the beginning of wisdom is awe.” So
 \, for our Shabbat tisch and study on Friday\, April 19\, we will explore 
 traditional Jewish texts on the insights gained by the Jewish spiritual di
 scipline of looking up! Our study will take place only a few days followin
 g a total solar eclipse to be witnessed in wide swaths across the United S
 tates\, so we will also share some personal and timely reflections.\n\nPle
 ase bring your own wine! Register here.
ATTACH;FMTTYPE=image/jpeg:https://bnaijehudah.org/wp-content/uploads/2023/
 12/rabbi-david-meyer.jpg
CATEGORIES:TTCBJ
END:VEVENT
BEGIN:VTIMEZONE
TZID:America/Chicago
X-LIC-LOCATION:America/Chicago
BEGIN:DAYLIGHT
DTSTART:20240310T030000
TZOFFSETFROM:-0600
TZOFFSETTO:-0500
TZNAME:CDT
END:DAYLIGHT
END:VTIMEZONE
END:VCALENDAR