BEGIN:VCALENDAR
VERSION:2.0
PRODID:-//wp-events-plugin.com//7.2.3.1//EN
TZID:America/Chicago
X-WR-TIMEZONE:America/Chicago
BEGIN:VEVENT
UID:1802@bnaijehudah.org
DTSTART;TZID=America/Chicago:20240801T190000
DTEND;TZID=America/Chicago:20240801T203000
DTSTAMP:20240710T205624Z
URL:https://bnaijehudah.org/events/reel-theology-with-rabbi-rothstein/
SUMMARY:Reel Theology with Rabbi Rothstein
DESCRIPTION:"I dreamed that love would never die\, I dreamed that God would
  be forgiving…" This time we're discussing Les Miserable and what we can
  learn about forgiveness and apply to the High Holy Day season. Please wat
 ch the movie beforehand and come prepared to discuss. The movie is availab
 le on Amazon Prime\, Google Play\, Apple TV and YouTube. Meets in the Libr
 ary.\n\nRegister here.
ATTACH;FMTTYPE=image/jpeg:https://bnaijehudah.org/wp-content/uploads/2024/
 07/August-2024-Reel-Theology.png
CATEGORIES:Adult Education
END:VEVENT
BEGIN:VTIMEZONE
TZID:America/Chicago
X-LIC-LOCATION:America/Chicago
BEGIN:DAYLIGHT
DTSTART:20240310T030000
TZOFFSETFROM:-0600
TZOFFSETTO:-0500
TZNAME:CDT
END:DAYLIGHT
END:VTIMEZONE
END:VCALENDAR