BEGIN:VCALENDAR
VERSION:2.0
PRODID:-//wp-events-plugin.com//7.2.3.1//EN
TZID:America/Chicago
X-WR-TIMEZONE:America/Chicago
BEGIN:VEVENT
UID:1964@bnaijehudah.org
DTSTART;TZID=America/Chicago;VALUE=DATE:20241004
DTEND;TZID=America/Chicago;VALUE=DATE:20241005
DTSTAMP:20240718T212622Z
URL:https://bnaijehudah.org/events/rosh-hashanah-day-2/
SUMMARY:Rosh HaShanah Day 2
DESCRIPTION:Business office closed
CATEGORIES:Jewish Holidays
END:VEVENT
BEGIN:VTIMEZONE
TZID:America/Chicago
X-LIC-LOCATION:America/Chicago
BEGIN:DAYLIGHT
DTSTART:20240310T030000
TZOFFSETFROM:-0600
TZOFFSETTO:-0500
TZNAME:CDT
END:DAYLIGHT
END:VTIMEZONE
END:VCALENDAR