BEGIN:VCALENDAR
VERSION:2.0
PRODID:-//wp-events-plugin.com//7.2.3.1//EN
TZID:America/Chicago
X-WR-TIMEZONE:America/Chicago
BEGIN:VEVENT
UID:1753@bnaijehudah.org
DTSTART;TZID=America/Chicago:20241003T103000
DTEND;TZID=America/Chicago:20241003T103000
DTSTAMP:20240706T141633Z
URL:https://bnaijehudah.org/events/rosh-hashanah-morning-service/
SUMMARY:Rosh HaShanah Morning Service
DESCRIPTION:We gather as a congregational family to hear the call of the Sh
 ofar and celebrate Rosh HaShanah. Following the service\, enjoy apples and
  honey sponsored by our Sisterhood for a sweet New Year.\n\nRegister here.
CATEGORIES:Holiday Programming
END:VEVENT
BEGIN:VTIMEZONE
TZID:America/Chicago
X-LIC-LOCATION:America/Chicago
BEGIN:DAYLIGHT
DTSTART:20240310T030000
TZOFFSETFROM:-0600
TZOFFSETTO:-0500
TZNAME:CDT
END:DAYLIGHT
END:VTIMEZONE
END:VCALENDAR