BEGIN:VCALENDAR
VERSION:2.0
PRODID:-//wp-events-plugin.com//7.2.3.1//EN
TZID:America/Chicago
X-WR-TIMEZONE:America/Chicago
BEGIN:VEVENT
UID:1787@bnaijehudah.org
DTSTART;TZID=America/Chicago:20241003T103000
DTEND;TZID=America/Chicago:20241003T103000
DTSTAMP:20240706T225822Z
URL:https://bnaijehudah.org/events/rosh-hashanah-youth-service-and-program
 -for-grades-4-7-2/
SUMMARY:Rosh HaShanah Youth Service and Program for Grades 4-7
DESCRIPTION:The Youth Service and Program will include meaningful and engag
 ing experiences for students in grades 4-7.\n\nRegister here.
CATEGORIES:Holiday Programming,Yalla! and Youth
END:VEVENT
BEGIN:VTIMEZONE
TZID:America/Chicago
X-LIC-LOCATION:America/Chicago
BEGIN:DAYLIGHT
DTSTART:20240310T030000
TZOFFSETFROM:-0600
TZOFFSETTO:-0500
TZNAME:CDT
END:DAYLIGHT
END:VTIMEZONE
END:VCALENDAR