BEGIN:VCALENDAR
VERSION:2.0
PRODID:-//wp-events-plugin.com//7.2.3.1//EN
TZID:America/Chicago
X-WR-TIMEZONE:America/Chicago
BEGIN:VEVENT
UID:2497@bnaijehudah.org
DTSTART;TZID=America/Chicago:20250923T103000
DTEND;TZID=America/Chicago:20250923T103000
DTSTAMP:20250824T152802Z
URL:https://bnaijehudah.org/events/rosh-hashanah-youth-service-and-program
 -for-grades-4-7-rosh-hashanah-morning/
SUMMARY:Youth Service and Program for Grades 4-7 (Rosh HaShanah Morning)
DESCRIPTION:The Youth Service and Program will be led by Rabbi Melissa Zalk
 in Stollman and will include meaningful and engaging experiences for stude
 nts. This program is for students only and is not for the entire family. A
 ll students must be registered to attend.\n\nRegister here.
ATTACH;FMTTYPE=image/jpeg:https://bnaijehudah.org/wp-content/uploads/2025/
 05/WEB-Rosh-HaShanah-Morning-Service-and-Programs-800-x-600-px.png
CATEGORIES:High Holy Days,Holiday Programming,Yalla! and Youth
END:VEVENT
BEGIN:VTIMEZONE
TZID:America/Chicago
X-LIC-LOCATION:America/Chicago
BEGIN:DAYLIGHT
DTSTART:20250309T030000
TZOFFSETFROM:-0600
TZOFFSETTO:-0500
TZNAME:CDT
END:DAYLIGHT
END:VTIMEZONE
END:VCALENDAR