BEGIN:VCALENDAR
VERSION:2.0
PRODID:-//wp-events-plugin.com//7.2.3.1//EN
TZID:America/Chicago
X-WR-TIMEZONE:America/Chicago
BEGIN:VEVENT
UID:2640@bnaijehudah.org
DTSTART;TZID=America/Chicago:20250913T190000
DTEND;TZID=America/Chicago:20250913T190000
DTSTAMP:20250817T025707Z
URL:https://bnaijehudah.org/events/selichot-service-and-free-dinner/
SUMMARY:Selichot Service and Free Dinner
DESCRIPTION:Join us for a moving Selichot service as we prepare our hearts 
 for the High Holy Days. Following the service\, enjoy a complimentary dinn
 er with our community\, sponsored by the Michael Klein Collection.\n\nRegi
 ster here.
ATTACH;FMTTYPE=image/jpeg:https://bnaijehudah.org/wp-content/uploads/2025/
 07/selichot-hillel-smith.png
CATEGORIES:Artist In Residence,Community Connections,Holiday
 Programming,Jewish Holidays,Klein Collection
END:VEVENT
BEGIN:VTIMEZONE
TZID:America/Chicago
X-LIC-LOCATION:America/Chicago
BEGIN:DAYLIGHT
DTSTART:20250309T030000
TZOFFSETFROM:-0600
TZOFFSETTO:-0500
TZNAME:CDT
END:DAYLIGHT
END:VTIMEZONE
END:VCALENDAR