BEGIN:VCALENDAR
VERSION:2.0
PRODID:-//wp-events-plugin.com//7.2.3.1//EN
TZID:America/Chicago
X-WR-TIMEZONE:America/Chicago
BEGIN:VEVENT
UID:2046@bnaijehudah.org
DTSTART;TZID=America/Chicago:20250201T103000
DTEND;TZID=America/Chicago:20250201T123000
DTSTAMP:20250121T021622Z
URL:https://bnaijehudah.org/events/shabbat-service-bar-mitzvah-adult-bnai-
 mitzvah/
SUMMARY:Adult B'nai Mitzvah Shabbat Morning Service
DESCRIPTION:Join us (virtually) for Shabbat Morning Services as we call 17 
 adult members to the Torah for their B'nai Mitzvah! Watch here on Facebook
 .
ATTACH;FMTTYPE=image/jpeg:https://bnaijehudah.org/wp-content/uploads/2024/
 09/adult-bm.png
CATEGORIES:Adult Education,Shabbat,TTCBJ
END:VEVENT
BEGIN:VTIMEZONE
TZID:America/Chicago
X-LIC-LOCATION:America/Chicago
BEGIN:STANDARD
DTSTART:20241103T010000
TZOFFSETFROM:-0500
TZOFFSETTO:-0600
TZNAME:CST
END:STANDARD
END:VTIMEZONE
END:VCALENDAR