BEGIN:VCALENDAR
VERSION:2.0
PRODID:-//wp-events-plugin.com//7.2.3.1//EN
TZID:America/Chicago
X-WR-TIMEZONE:America/Chicago
BEGIN:VEVENT
UID:939@bnaijehudah.org
DTSTART;TZID=America/Chicago:20240323T103000
DTEND;TZID=America/Chicago:20240323T103000
DTSTAMP:20231222T194139Z
URL:https://bnaijehudah.org/events/shabbat-service-bar-mitzvah-lucy-gordon
 /
SUMMARY:Shabbat Service (Bat Mitzvah: Lucy Gordon)
DESCRIPTION:1 1/2 hr Shabbat Service\, Small Prayer Space &amp\; Facebook (
 not available on Vimeo)
CATEGORIES:TTCBJ
END:VEVENT
BEGIN:VTIMEZONE
TZID:America/Chicago
X-LIC-LOCATION:America/Chicago
BEGIN:DAYLIGHT
DTSTART:20240310T030000
TZOFFSETFROM:-0600
TZOFFSETTO:-0500
TZNAME:CDT
END:DAYLIGHT
END:VTIMEZONE
END:VCALENDAR