BEGIN:VCALENDAR
VERSION:2.0
PRODID:-//wp-events-plugin.com//7.2.3.1//EN
TZID:America/Chicago
X-WR-TIMEZONE:America/Chicago
BEGIN:VEVENT
UID:930@bnaijehudah.org
DTSTART;TZID=America/Chicago:20240120T103000
DTEND;TZID=America/Chicago:20240120T103000
DTSTAMP:20231222T193933Z
URL:https://bnaijehudah.org/events/shabbat-service-bat-mitzvah-mia-ginsbur
 g/
SUMMARY:Shabbat Service (Bat Mitzvah: Mia Ginsburg)
DESCRIPTION:1 1/2 hr Shabbat Service\, Small Prayer Space &amp\; Facebook (
 not available on Vimeo)
CATEGORIES:TTCBJ
END:VEVENT
BEGIN:VTIMEZONE
TZID:America/Chicago
X-LIC-LOCATION:America/Chicago
BEGIN:STANDARD
DTSTART:20231105T010000
TZOFFSETFROM:-0500
TZOFFSETTO:-0600
TZNAME:CST
END:STANDARD
END:VTIMEZONE
END:VCALENDAR