BEGIN:VCALENDAR
VERSION:2.0
PRODID:-//wp-events-plugin.com//7.2.3.1//EN
TZID:America/Chicago
X-WR-TIMEZONE:America/Chicago
BEGIN:VEVENT
UID:3071@bnaijehudah.org
DTSTART;TZID=America/Chicago:20260612T180000
DTEND;TZID=America/Chicago:20260612T180000
DTSTAMP:20260224T181615Z
URL:https://bnaijehudah.org/events/shabbat-service-pride-shabbat/
SUMMARY:Shabbat Service: Pride Shabbat
DESCRIPTION:
ATTACH;FMTTYPE=image/jpeg:https://bnaijehudah.org/wp-content/uploads/2025/
 11/2026-Erev-Shabbat-Facebook-Post-800-x-600-px.png
CATEGORIES:Shabbat
END:VEVENT
BEGIN:VTIMEZONE
TZID:America/Chicago
X-LIC-LOCATION:America/Chicago
BEGIN:DAYLIGHT
DTSTART:20260308T030000
TZOFFSETFROM:-0600
TZOFFSETTO:-0500
TZNAME:CDT
END:DAYLIGHT
END:VTIMEZONE
END:VCALENDAR