BEGIN:VCALENDAR
VERSION:2.0
PRODID:-//wp-events-plugin.com//7.2.3.1//EN
TZID:America/Chicago
X-WR-TIMEZONE:America/Chicago
BEGIN:VEVENT
UID:1720@bnaijehudah.org
DTSTART;TZID=America/Chicago:20250117T180000
DTEND;TZID=America/Chicago:20250117T190000
DTSTAMP:20250104T205920Z
URL:https://bnaijehudah.org/events/shabbat-simcha-service-birthday-anniver
 sary-blessings-2025-01-17/
SUMMARY:Shabbat Tzedek and Simcha Service (Birthday and Anniversary Blessin
 gs)
DESCRIPTION:Join us for Shabbat Tzedek (Justice Shabbat) in honor of Martin
  Luther King Day. Immediately following Shabbat services\, which begin at 
 6:00pm\, we will have the opportunity to hear from Good Faith Network's Le
 ad Organizer\, Aileen Ball\, about their important work here in Johnson Co
 unty and how you can get more involved with B'nai Jehudah's Social Action 
 endeavors. Heavy hors d'oeuvres will be served during the talk following a
 n abbreviated Shabbat service\, concluding around 7:30pm.\n\nWe will also 
 celebrate birthdays and anniversaries for the month!\n\nTo learn more abou
 t the Good Faith Network (of which B'nai Jehudah is a member)\, click here
  to visit their website or contact Rabbi Brazner.
ATTACH;FMTTYPE=image/jpeg:https://bnaijehudah.org/wp-content/uploads/2024/
 04/Shabbat-Tzedek-800-x-600-px.png
CATEGORIES:Shabbat
END:VEVENT
BEGIN:VTIMEZONE
TZID:America/Chicago
X-LIC-LOCATION:America/Chicago
BEGIN:STANDARD
DTSTART:20241103T010000
TZOFFSETFROM:-0500
TZOFFSETTO:-0600
TZNAME:CST
END:STANDARD
END:VTIMEZONE
END:VCALENDAR