BEGIN:VCALENDAR
VERSION:2.0
PRODID:-//wp-events-plugin.com//7.2.3.1//EN
TZID:America/Chicago
X-WR-TIMEZONE:America/Chicago
BEGIN:VEVENT
UID:1703@bnaijehudah.org
DTSTART;TZID=America/Chicago:20240816T180000
DTEND;TZID=America/Chicago:20250613T190000
DTSTAMP:20250222T180259Z
URL:https://bnaijehudah.org/event-recurring/shabbat-simcha-service-birthda
 y-anniversary-blessings/
SUMMARY:Shabbat Simcha Service (Birthday and Anniversary Blessings)
DESCRIPTION:At this service will partake in extra celebrations of joyous mo
 ments in our lives from birthdays\, anniversaries and more! The word simc
 ha means “joy” and is typically used as a noun to denote a happy even
 t in someone’s life.
ATTACH;FMTTYPE=image/jpeg:https://bnaijehudah.org/wp-content/uploads/2024/
 04/shabbat-simcha.png
CATEGORIES:Shabbat
END:VEVENT
BEGIN:VTIMEZONE
TZID:America/Chicago
X-LIC-LOCATION:America/Chicago
BEGIN:DAYLIGHT
DTSTART:20240310T030000
TZOFFSETFROM:-0600
TZOFFSETTO:-0500
TZNAME:CDT
END:DAYLIGHT
BEGIN:STANDARD
DTSTART:20241103T010000
TZOFFSETFROM:-0500
TZOFFSETTO:-0600
TZNAME:CST
END:STANDARD
BEGIN:DAYLIGHT
DTSTART:20250309T030000
TZOFFSETFROM:-0600
TZOFFSETTO:-0500
TZNAME:CDT
END:DAYLIGHT
END:VTIMEZONE
END:VCALENDAR