BEGIN:VCALENDAR
VERSION:2.0
PRODID:-//wp-events-plugin.com//7.2.3.1//EN
TZID:America/Chicago
X-WR-TIMEZONE:America/Chicago
BEGIN:VEVENT
UID:1959@bnaijehudah.org
DTSTART;TZID=America/Chicago:20240913T103000
DTEND;TZID=America/Chicago:20240913T103000
DTSTAMP:20240813T151640Z
URL:https://bnaijehudah.org/events/shabbat-sing-with-dan-nichols-at-villag
 e-shalom/
SUMMARY:Shabbat Sing with Dan Nichols at Village Shalom
DESCRIPTION:Residents of Village Shalom and their families are invited to a
 ttend this special program with B'nai Jehudah's Artist-in-Residence.\nVill
 age Shalom\, 5500 W 123rd Street\, Overland Park
CATEGORIES:65+ Thriving,Artist In Residence,Community Connections
END:VEVENT
BEGIN:VTIMEZONE
TZID:America/Chicago
X-LIC-LOCATION:America/Chicago
BEGIN:DAYLIGHT
DTSTART:20240310T030000
TZOFFSETFROM:-0600
TZOFFSETTO:-0500
TZNAME:CDT
END:DAYLIGHT
END:VTIMEZONE
END:VCALENDAR