BEGIN:VCALENDAR
VERSION:2.0
PRODID:-//wp-events-plugin.com//7.2.3.1//EN
TZID:America/Chicago
X-WR-TIMEZONE:America/Chicago
BEGIN:VEVENT
UID:1338@bnaijehudah.org
DTSTART;TZID=America/Chicago:20240712T170000
DTEND;TZID=America/Chicago:20240712T180000
DTSTAMP:20240513T013551Z
URL:https://bnaijehudah.org/events/share-shabbat-2/
SUMMARY:Share Shabbat
DESCRIPTION:The young (and young-at-heart) are invited to Share Shabbat eac
 h month! Enjoy a family-friendly service with music\, stories\, and a spec
 ial activity. We are meeting at The J KC pool (5801 W 115 Street\, Overlan
 d Park). In July grab your water wings and bathing suits because we're hea
 ded to the J KC Pool for a Shabbat of swimming fun!\n\nRSVPs requested but
  not required. Please register here.
CATEGORIES:Young Families
END:VEVENT
BEGIN:VTIMEZONE
TZID:America/Chicago
X-LIC-LOCATION:America/Chicago
BEGIN:DAYLIGHT
DTSTART:20240310T030000
TZOFFSETFROM:-0600
TZOFFSETTO:-0500
TZNAME:CDT
END:DAYLIGHT
END:VTIMEZONE
END:VCALENDAR