BEGIN:VCALENDAR
VERSION:2.0
PRODID:-//wp-events-plugin.com//7.2.3.1//EN
TZID:America/Chicago
X-WR-TIMEZONE:America/Chicago
BEGIN:VEVENT
UID:310@bnaijehudah.org
DTSTART;TZID=America/Chicago:20240405T170000
DTEND;TZID=America/Chicago:20240405T180000
DTSTAMP:20240214T193007Z
URL:https://bnaijehudah.org/events/share-shabbat-at-the-j-kc-offsite/
SUMMARY:Share Shabbat at The J KC - OFFSITE
DESCRIPTION:The young (and young-at-heart) are invited to Share Shabbat eac
 h month! Enjoy a family-friendly service with music\, stories\, and a spec
 ial activity. RSVP here.
CATEGORIES:Young Families
END:VEVENT
BEGIN:VTIMEZONE
TZID:America/Chicago
X-LIC-LOCATION:America/Chicago
BEGIN:DAYLIGHT
DTSTART:20240310T030000
TZOFFSETFROM:-0600
TZOFFSETTO:-0500
TZNAME:CDT
END:DAYLIGHT
END:VTIMEZONE
END:VCALENDAR