BEGIN:VCALENDAR
VERSION:2.0
PRODID:-//wp-events-plugin.com//7.2.3.1//EN
TZID:America/Chicago
X-WR-TIMEZONE:America/Chicago
BEGIN:VEVENT
UID:2282@bnaijehudah.org
DTSTART;TZID=America/Chicago:20250602T103000
DTEND;TZID=America/Chicago:20250602T103000
DTSTAMP:20250530T180839Z
URL:https://bnaijehudah.org/events/shavuot-morning-festival-service-and-yi
 zkor/
SUMMARY:Shavuot Morning Festival Service and Yizkor at Congregation Beth To
 rah
DESCRIPTION:We join together at Congregation Beth Torah for this Shavuot Fe
 stival Morning Service and Yizkor. \n\n6100 West 127th Street\, Overland 
 Park
ATTACH;FMTTYPE=image/jpeg:https://bnaijehudah.org/wp-content/uploads/2024/
 11/Shavuot-Morning-Festival-Service-and-Yizkor-800-x-600-px.png
CATEGORIES:Holiday Programming
END:VEVENT
BEGIN:VTIMEZONE
TZID:America/Chicago
X-LIC-LOCATION:America/Chicago
BEGIN:DAYLIGHT
DTSTART:20250309T030000
TZOFFSETFROM:-0600
TZOFFSETTO:-0500
TZNAME:CDT
END:DAYLIGHT
END:VTIMEZONE
END:VCALENDAR