BEGIN:VCALENDAR
VERSION:2.0
PRODID:-//wp-events-plugin.com//7.2.3.1//EN
TZID:America/Chicago
X-WR-TIMEZONE:America/Chicago
BEGIN:VEVENT
UID:351@bnaijehudah.org
DTSTART;TZID=America/Chicago:20240612T103000
DTEND;TZID=America/Chicago:20240612T113000
DTSTAMP:20240527T020811Z
URL:https://bnaijehudah.org/events/shavuot-yizkor-service/
SUMMARY:Shavuot Morning Festival Service and Yizkor
DESCRIPTION:We join together for this festival morning service and yizkor.
ATTACH;FMTTYPE=image/jpeg:https://bnaijehudah.org/wp-content/uploads/2023/
 12/Shavuot-Morning-Festival-Service-Yizkor-800-x-600-px.png
CATEGORIES:Holiday Programming,Jewish Holidays
END:VEVENT
BEGIN:VTIMEZONE
TZID:America/Chicago
X-LIC-LOCATION:America/Chicago
BEGIN:DAYLIGHT
DTSTART:20240310T030000
TZOFFSETFROM:-0600
TZOFFSETTO:-0500
TZNAME:CDT
END:DAYLIGHT
END:VTIMEZONE
END:VCALENDAR