BEGIN:VCALENDAR
VERSION:2.0
PRODID:-//wp-events-plugin.com//7.2.3.1//EN
TZID:America/Chicago
X-WR-TIMEZONE:America/Chicago
BEGIN:VEVENT
UID:2464@bnaijehudah.org
DTSTART;TZID=America/Chicago:20251014T103000
DTEND;TZID=America/Chicago:20251014T103000
DTSTAMP:20250806T182314Z
URL:https://bnaijehudah.org/events/simchat-torah-morning-festival-service-
 and-yizkor-2/
SUMMARY:Simchat Torah Morning Festival Service and Yizkor
DESCRIPTION:Join us for this service of memory as we remember our loved one
 s together.\n\nThis service will take place in person and online.
ATTACH;FMTTYPE=image/jpeg:https://bnaijehudah.org/wp-content/uploads/2025/
 05/Copy-of-Simchat-Torah-Morning-Festival-Service-Yizkor-Instagram-Post.pn
 g
CATEGORIES:Jewish Holidays,Sukkot and Simchat Torah
END:VEVENT
BEGIN:VTIMEZONE
TZID:America/Chicago
X-LIC-LOCATION:America/Chicago
BEGIN:DAYLIGHT
DTSTART:20250309T030000
TZOFFSETFROM:-0600
TZOFFSETTO:-0500
TZNAME:CDT
END:DAYLIGHT
END:VTIMEZONE
END:VCALENDAR