BEGIN:VCALENDAR
VERSION:2.0
PRODID:-//wp-events-plugin.com//7.2.3.1//EN
TZID:America/Chicago
X-WR-TIMEZONE:America/Chicago
BEGIN:VEVENT
UID:1702@bnaijehudah.org
DTSTART;TZID=America/Chicago:20240609T150000
DTEND;TZID=America/Chicago:20240609T170000
DTSTAMP:20240527T005914Z
URL:https://bnaijehudah.org/events/sisterhood-annual-meeting/
SUMMARY:Sisterhood Annual Meeting
DESCRIPTION:Join your fellow Sisters for our 2024 Annual Meeting where we w
 ill celebrate our award honorees. Mazel tov (congratulations) to Rita Sudh
 alter for the Shoshana award\, Alissa Yamnitz for Emerging Leader and Kris
 ti Kanarek for Service to Sisterhood. We will also install our new board a
 nd thank everyone for being part of such a wonderful Sisterhood. Let's enj
 oy Bellinis and delicious McLain's desserts and appetizers together!\n\nPl
 ease call Shanny at (913) 515-9054 or Kristi at (913) 754-6774 to request 
 a ride or financial assistance.\n\nMcLain's Market Overland Park\, 10695 R
 oe Ave\, Overland Park\, KS 66207\n\nRegister here.\n\n&nbsp\;\n\n&nbsp\;\
 n\n&nbsp\;
ATTACH;FMTTYPE=image/jpeg:https://bnaijehudah.org/wp-content/uploads/2024/
 04/Roses.png
CATEGORIES:Sisterhood
END:VEVENT
BEGIN:VTIMEZONE
TZID:America/Chicago
X-LIC-LOCATION:America/Chicago
BEGIN:DAYLIGHT
DTSTART:20240310T030000
TZOFFSETFROM:-0600
TZOFFSETTO:-0500
TZNAME:CDT
END:DAYLIGHT
END:VTIMEZONE
END:VCALENDAR