BEGIN:VCALENDAR
VERSION:2.0
PRODID:-//wp-events-plugin.com//7.2.3.1//EN
TZID:America/Chicago
X-WR-TIMEZONE:America/Chicago
BEGIN:VEVENT
UID:632@bnaijehudah.org
DTSTART;TZID=America/Chicago:20240121T100000
DTEND;TZID=America/Chicago:20240121T120000
DTSTAMP:20240119T202007Z
URL:https://bnaijehudah.org/events/sisterhood-appreciation-brunch-communit
 y-service-project/
SUMMARY:Sisterhood Appreciation Brunch and Community Service Project
DESCRIPTION:All Sisterhood Members are invited to an Appreciation Brunch at
  the Temple! Our Community Service Project will be to prepare Kesher Bags 
 for Jewish Family Services. Join us for champagne\, good deeds and fun!\n\
 nClick here to register.
ATTACH;FMTTYPE=image/jpeg:https://bnaijehudah.org/wp-content/uploads/2024/
 01/Sisterhood-Appreciation-Brunch-Community-Service-Project-800-x-600-px.p
 ng
CATEGORIES:Sisterhood
END:VEVENT
BEGIN:VTIMEZONE
TZID:America/Chicago
X-LIC-LOCATION:America/Chicago
BEGIN:STANDARD
DTSTART:20231105T010000
TZOFFSETFROM:-0500
TZOFFSETTO:-0600
TZNAME:CST
END:STANDARD
END:VTIMEZONE
END:VCALENDAR