BEGIN:VCALENDAR
VERSION:2.0
PRODID:-//wp-events-plugin.com//7.2.3.1//EN
TZID:America/Chicago
X-WR-TIMEZONE:America/Chicago
BEGIN:VEVENT
UID:652@bnaijehudah.org
DTSTART;TZID=America/Chicago:20240414T120000
DTEND;TZID=America/Chicago:20240414T140000
DTSTAMP:20240304T030216Z
URL:https://bnaijehudah.org/events/sisterhood-gdo-girls-day-out-at-kansas-
 city-zoos-aquarium/
SUMMARY:Sisterhood GDO (Girl's Day Out) at Kansas City Zoo's Aquarium
DESCRIPTION:Complimentary Panera brown bag lunch then tour is 12:00pm to  
 2:00pm. (Discount tickets with member admission-$11 tickets x 4 tickets pe
 r member.) To register\, click here.
ATTACH;FMTTYPE=image/jpeg:https://bnaijehudah.org/wp-content/uploads/2023/
 12/gdo-zoo.png
CATEGORIES:Sisterhood
END:VEVENT
BEGIN:VTIMEZONE
TZID:America/Chicago
X-LIC-LOCATION:America/Chicago
BEGIN:DAYLIGHT
DTSTART:20240310T030000
TZOFFSETFROM:-0600
TZOFFSETTO:-0500
TZNAME:CDT
END:DAYLIGHT
END:VTIMEZONE
END:VCALENDAR