BEGIN:VCALENDAR
VERSION:2.0
PRODID:-//wp-events-plugin.com//7.2.3.1//EN
TZID:America/Chicago
X-WR-TIMEZONE:America/Chicago
BEGIN:VEVENT
UID:648@bnaijehudah.org
DTSTART;TZID=America/Chicago:20240307T181500
DTEND;TZID=America/Chicago:20240307T193000
DTSTAMP:20231222T192354Z
URL:https://bnaijehudah.org/events/sisterhood-girls-night-out-at-fiorellas
 -jack-stack-bbq/
SUMMARY:Sisterhood: Girl's Night Out at Fiorella's Jack Stack BBQ
DESCRIPTION:Reserved tables at the best BBQ in town. Limited to 20 Sisters.
  Click here to register.
CATEGORIES:Sisterhood
END:VEVENT
BEGIN:VTIMEZONE
TZID:America/Chicago
X-LIC-LOCATION:America/Chicago
BEGIN:STANDARD
DTSTART:20231105T010000
TZOFFSETFROM:-0500
TZOFFSETTO:-0600
TZNAME:CST
END:STANDARD
END:VTIMEZONE
END:VCALENDAR