BEGIN:VCALENDAR
VERSION:2.0
PRODID:-//wp-events-plugin.com//7.2.3.1//EN
TZID:America/Chicago
X-WR-TIMEZONE:America/Chicago
BEGIN:VEVENT
UID:2556@bnaijehudah.org
DTSTART;TZID=America/Chicago:20251012T091500
DTEND;TZID=America/Chicago:20251012T111500
DTSTAMP:20250925T205433Z
URL:https://bnaijehudah.org/events/sisterhood-sunday-morning-brunch/
SUMMARY:Sisterhood Sunday Morning Brunch
DESCRIPTION:Join us for Sunday Morning Brunch! Just a chance to get togethe
 r and chat-schmooze with your friends and fill your bellies. A win for eve
 ryone!\n\nCost is $18 per person.\n\nRegister here by October 8.
ATTACH;FMTTYPE=image/jpeg:https://bnaijehudah.org/wp-content/uploads/2025/
 07/oct-12-brunch.png
CATEGORIES:Sisterhood
END:VEVENT
BEGIN:VTIMEZONE
TZID:America/Chicago
X-LIC-LOCATION:America/Chicago
BEGIN:DAYLIGHT
DTSTART:20250309T030000
TZOFFSETFROM:-0600
TZOFFSETTO:-0500
TZNAME:CDT
END:DAYLIGHT
END:VTIMEZONE
END:VCALENDAR