BEGIN:VCALENDAR
VERSION:2.0
PRODID:-//wp-events-plugin.com//7.2.3.1//EN
TZID:America/Chicago
X-WR-TIMEZONE:America/Chicago
BEGIN:VEVENT
UID:2091@bnaijehudah.org
DTSTART;TZID=America/Chicago:20241205T183000
DTEND;TZID=America/Chicago:20241205T200000
DTSTAMP:20240920T141051Z
URL:https://bnaijehudah.org/events/sisterhoodcommunityservice/
SUMMARY:Community Service Project at HappyBottoms
DESCRIPTION:HappyBottoms provides 3.4 million diapers annually to children 
 from families in the Kansas City metro area. Working to eliminate diaper n
 eeds in the Kansas City region\, volunteers will wrap diaper packages and 
 help fill monthly orders. This is a fast-paced\, fun family event for teen
 agers (over 12) and adults. Closed-toe shoes are mandatory\; you must arri
 ve 10 minutes before your shift for registration. It is truly a satisfying
  experience!\n\nLocated at 303 West 79th Street\, Kansas City\, MO.\n\nReg
 ister here.
ATTACH;FMTTYPE=image/jpeg:https://bnaijehudah.org/wp-content/uploads/2024/
 09/diaper-bank.png
CATEGORIES:Sisterhood
END:VEVENT
BEGIN:VTIMEZONE
TZID:America/Chicago
X-LIC-LOCATION:America/Chicago
BEGIN:STANDARD
DTSTART:20241103T010000
TZOFFSETFROM:-0500
TZOFFSETTO:-0600
TZNAME:CST
END:STANDARD
END:VTIMEZONE
END:VCALENDAR