BEGIN:VCALENDAR
VERSION:2.0
PRODID:-//wp-events-plugin.com//7.2.3.1//EN
TZID:America/Chicago
X-WR-TIMEZONE:America/Chicago
BEGIN:VEVENT
UID:3231@bnaijehudah.org
DTSTART;TZID=America/Chicago:20260218T091500
DTEND;TZID=America/Chicago:20260218T121500
DTSTAMP:20260108T193300Z
URL:https://bnaijehudah.org/events/sisterhoods-hamantaschen-fundraiser-ord
 erdeadline/
SUMMARY:Sisterhood's Hamantaschen Fundraiser Order Deadline
DESCRIPTION:Order your Hamantaschen for Purim by Wednesday\, February 18 
 – $8 for each half-dozen. Baked lovingly by Sisterhood.\n\nChoose from t
 wo different variety packs: Poppyseed\, Apricot and Raspberry or Chocolate
 \, Apricot and Raspberry.\n\nLimited quantities available\, so order yours
  today!\n\nPick up March 1\, 9:15am – 12:15pm at B’nai Jehudah.\n\nCli
 ck here to order.
ATTACH;FMTTYPE=image/jpeg:https://bnaijehudah.org/wp-content/uploads/2025/
 01/Hamantaschen-fundraiser.png
CATEGORIES:Purim,Sisterhood
END:VEVENT
BEGIN:VTIMEZONE
TZID:America/Chicago
X-LIC-LOCATION:America/Chicago
BEGIN:STANDARD
DTSTART:20251102T010000
TZOFFSETFROM:-0500
TZOFFSETTO:-0600
TZNAME:CST
END:STANDARD
END:VTIMEZONE
END:VCALENDAR